BEGIN:VCALENDAR
VERSION:2.0
PRODID:-//jEvents 2.0 for Joomla//EN
CALSCALE:GREGORIAN
METHOD:PUBLISH
BEGIN:VTIMEZONE
TZID:Europe/Vienna
BEGIN:STANDARD
DTSTART:20101031T020000
RDATE:20110327T030000
TZOFFSETFROM:+0200
TZOFFSETTO:+0100
TZNAME:Europe/Vienna CET
END:STANDARD
BEGIN:STANDARD
DTSTART:20111030T020000
RDATE:20120325T030000
TZOFFSETFROM:+0200
TZOFFSETTO:+0100
TZNAME:Europe/Vienna CET
END:STANDARD
BEGIN:STANDARD
DTSTART:20121028T020000
RDATE:20130331T030000
TZOFFSETFROM:+0200
TZOFFSETTO:+0100
TZNAME:Europe/Vienna CET
END:STANDARD
BEGIN:STANDARD
DTSTART:20131027T020000
RDATE:20140330T030000
TZOFFSETFROM:+0200
TZOFFSETTO:+0100
TZNAME:Europe/Vienna CET
END:STANDARD
BEGIN:STANDARD
DTSTART:20141026T020000
RDATE:20150329T030000
TZOFFSETFROM:+0200
TZOFFSETTO:+0100
TZNAME:Europe/Vienna CET
END:STANDARD
BEGIN:STANDARD
DTSTART:20151025T020000
RDATE:20160327T030000
TZOFFSETFROM:+0200
TZOFFSETTO:+0100
TZNAME:Europe/Vienna CET
END:STANDARD
BEGIN:STANDARD
DTSTART:20161030T020000
RDATE:20170326T030000
TZOFFSETFROM:+0200
TZOFFSETTO:+0100
TZNAME:Europe/Vienna CET
END:STANDARD
BEGIN:STANDARD
DTSTART:20171029T020000
RDATE:20180325T030000
TZOFFSETFROM:+0200
TZOFFSETTO:+0100
TZNAME:Europe/Vienna CET
END:STANDARD
BEGIN:STANDARD
DTSTART:20181028T020000
RDATE:20190331T030000
TZOFFSETFROM:+0200
TZOFFSETTO:+0100
TZNAME:Europe/Vienna CET
END:STANDARD
BEGIN:STANDARD
DTSTART:20191027T020000
RDATE:20200329T030000
TZOFFSETFROM:+0200
TZOFFSETTO:+0100
TZNAME:Europe/Vienna CET
END:STANDARD
BEGIN:STANDARD
DTSTART:20201025T020000
RDATE:20210328T030000
TZOFFSETFROM:+0200
TZOFFSETTO:+0100
TZNAME:Europe/Vienna CET
END:STANDARD
BEGIN:STANDARD
DTSTART:20211031T020000
RDATE:20220327T030000
TZOFFSETFROM:+0200
TZOFFSETTO:+0100
TZNAME:Europe/Vienna CET
END:STANDARD
BEGIN:STANDARD
DTSTART:20221030T020000
RDATE:20230326T030000
TZOFFSETFROM:+0200
TZOFFSETTO:+0100
TZNAME:Europe/Vienna CET
END:STANDARD
BEGIN:STANDARD
DTSTART:20231029T020000
RDATE:20240331T030000
TZOFFSETFROM:+0200
TZOFFSETTO:+0100
TZNAME:Europe/Vienna CET
END:STANDARD
BEGIN:STANDARD
DTSTART:20241027T020000
RDATE:20250330T030000
TZOFFSETFROM:+0200
TZOFFSETTO:+0100
TZNAME:Europe/Vienna CET
END:STANDARD
BEGIN:STANDARD
DTSTART:20251026T020000
RDATE:20260329T030000
TZOFFSETFROM:+0200
TZOFFSETTO:+0100
TZNAME:Europe/Vienna CET
END:STANDARD
BEGIN:DAYLIGHT
DTSTART:20100614T193000
RDATE:20101031T020000
TZOFFSETFROM:+0100
TZOFFSETTO:+0200
TZNAME:Europe/Vienna CEST
END:DAYLIGHT
BEGIN:DAYLIGHT
DTSTART:20110327T030000
RDATE:20111030T020000
TZOFFSETFROM:+0100
TZOFFSETTO:+0200
TZNAME:Europe/Vienna CEST
END:DAYLIGHT
BEGIN:DAYLIGHT
DTSTART:20120325T030000
RDATE:20121028T020000
TZOFFSETFROM:+0100
TZOFFSETTO:+0200
TZNAME:Europe/Vienna CEST
END:DAYLIGHT
BEGIN:DAYLIGHT
DTSTART:20130331T030000
RDATE:20131027T020000
TZOFFSETFROM:+0100
TZOFFSETTO:+0200
TZNAME:Europe/Vienna CEST
END:DAYLIGHT
BEGIN:DAYLIGHT
DTSTART:20140330T030000
RDATE:20141026T020000
TZOFFSETFROM:+0100
TZOFFSETTO:+0200
TZNAME:Europe/Vienna CEST
END:DAYLIGHT
BEGIN:DAYLIGHT
DTSTART:20150329T030000
RDATE:20151025T020000
TZOFFSETFROM:+0100
TZOFFSETTO:+0200
TZNAME:Europe/Vienna CEST
END:DAYLIGHT
BEGIN:DAYLIGHT
DTSTART:20160327T030000
RDATE:20161030T020000
TZOFFSETFROM:+0100
TZOFFSETTO:+0200
TZNAME:Europe/Vienna CEST
END:DAYLIGHT
BEGIN:DAYLIGHT
DTSTART:20170326T030000
RDATE:20171029T020000
TZOFFSETFROM:+0100
TZOFFSETTO:+0200
TZNAME:Europe/Vienna CEST
END:DAYLIGHT
BEGIN:DAYLIGHT
DTSTART:20180325T030000
RDATE:20181028T020000
TZOFFSETFROM:+0100
TZOFFSETTO:+0200
TZNAME:Europe/Vienna CEST
END:DAYLIGHT
BEGIN:DAYLIGHT
DTSTART:20190331T030000
RDATE:20191027T020000
TZOFFSETFROM:+0100
TZOFFSETTO:+0200
TZNAME:Europe/Vienna CEST
END:DAYLIGHT
BEGIN:DAYLIGHT
DTSTART:20200329T030000
RDATE:20201025T020000
TZOFFSETFROM:+0100
TZOFFSETTO:+0200
TZNAME:Europe/Vienna CEST
END:DAYLIGHT
BEGIN:DAYLIGHT
DTSTART:20210328T030000
RDATE:20211031T020000
TZOFFSETFROM:+0100
TZOFFSETTO:+0200
TZNAME:Europe/Vienna CEST
END:DAYLIGHT
BEGIN:DAYLIGHT
DTSTART:20220327T030000
RDATE:20221030T020000
TZOFFSETFROM:+0100
TZOFFSETTO:+0200
TZNAME:Europe/Vienna CEST
END:DAYLIGHT
BEGIN:DAYLIGHT
DTSTART:20230326T030000
RDATE:20231029T020000
TZOFFSETFROM:+0100
TZOFFSETTO:+0200
TZNAME:Europe/Vienna CEST
END:DAYLIGHT
BEGIN:DAYLIGHT
DTSTART:20240331T030000
RDATE:20241027T020000
TZOFFSETFROM:+0100
TZOFFSETTO:+0200
TZNAME:Europe/Vienna CEST
END:DAYLIGHT
BEGIN:DAYLIGHT
DTSTART:20250330T030000
RDATE:20251026T020000
TZOFFSETFROM:+0100
TZOFFSETTO:+0200
TZNAME:Europe/Vienna CEST
END:DAYLIGHT
END:VTIMEZONE
BEGIN:VEVENT
UID:61ce3f8688782d03d1211d0ff96ac7cf
CATEGORIES:Kammermusikkonzert
CREATED:20160416T204345
SUMMARY:Beethoven-Festival: Vortrag "Freude, schöner Götterfunken"
LOCATION:Festsaal der Bezirksvorstehung Döbling\, Gatterburggasse 14 \, 1190 Wien
DESCRIPTION:BEETHOVEN FESTIVAL 2011\n „FREUDE, SCHÖNER GÖTTERFUNKEN“  Mittwoch, 15. Jun
 i 2011, 19.30 Uhr \nFestsaal der Bezirksvorstehung Döbling, Gatterburggasse
  14 \n \nDer Autor und Moderator Otto BRUSATTI \nspricht über Beethovens 9.
  Symphonie, liest vor, erzählt... \n \nDas ALEKSIĆ Streichtrio\n spielt aus
  Werken von Beethoven, Mozart, \nSchubert, J.Strauss und W.Wagner \n \nAnsc
 hließend Beisammensein mit Weinen vom Weingut Wolff \n \n \nEintritt: Euro 
 15.- Abendkassa/Studenten 10.- \nAnmeldung: 0664/43 121 43, E-Mail: Diese E
 -Mail-Adresse ist vor Spambots geschützt! Zur Anzeige muss JavaScript einge
 schaltet sein!
				document.getElementById('cloak288e71b6363a899205e82e16b4
 4c03da').innerHTML = '';
				var prefix = '&#109;a' + 'i&#108;' + '&#116;o'
 ;
				var path = 'hr' + 'ef' + '=';
				var addy288e71b6363a899205e82e16b44
 c03da = 's_r&#105;tt&#101;n&#97;&#117;&#101;r' + '&#64;';
				addy288e71b63
 63a899205e82e16b44c03da = addy288e71b6363a899205e82e16b44c03da + 'h&#111;tm
 &#97;&#105;l' + '&#46;' + 'c&#111;m';
				var addy_text288e71b6363a899205e8
 2e16b44c03da = 's_r&#105;tt&#101;n&#97;&#117;&#101;r' + '&#64;' + 'h&#111;t
 m&#97;&#105;l' + '&#46;' + 'c&#111;m';document.getElementById('cloak288e71b
 6363a899205e82e16b44c03da').innerHTML += '<a ' + path + '\'' + prefix + ':'
  + addy288e71b6363a899205e82e16b44c03da + '\'>'+addy_text288e71b6363a899205
 e82e16b44c03da+'';
		 \n \n Mit freundlicher Unterstützung der Bezirksvorst
 ehung Döbling und MA7 Wissenschaft \n \n \nDie Veranstaltungsreihe steht un
 ter dem Ehrenschutz von Vizekanzler und \nAußenminister Dr. Michael Spindel
 egger, Landeshauptmann Dr. Erwin Pröll, \nStadtrat für Kultur Dr. Andreas M
 ailath-Pokorny, WKO-Präsident Dr. Christoph Leitl und \nBezirksvorsteher vo
 n Döbling Adolf Tiller \n \nhttp://www.beethoven-vienna.at" href="<a href="
 http://www.beethoven-vienna.at">http://www.beethoven-vienna.at</a>"&gt;www.
 beethoven-vienna.at \n\n
X-ALT-DESC;FMTTYPE=text/html:<p style="text-align: center;" mce_style="text-align: center;"><b>BEETHOVEN
 &nbsp;FESTIVAL&nbsp;2011</b><b></b><b></b></p><h2 style="text-align: center
 ;" mce_style="text-align: center;"><b> </b><i><b>„FREUDE,&nbsp;SCHÖNER&nbsp
 ;GÖTTERFUNKEN“ </b></i></h2><p style="text-align: center;" mce_style="text-
 align: center;"><b> </b><b>Mittwoch,&nbsp;15.&nbsp;Juni&nbsp;2011,&nbsp;19.
 30&nbsp;Uhr </b><br><b>Festsaal&nbsp;der&nbsp;Bezirksvorstehung&nbsp;Döblin
 g,&nbsp;Gatterburggasse&nbsp;14 </b><br> <br>Der&nbsp;Autor&nbsp;und&nbsp;M
 oderator&nbsp;Otto&nbsp;BRUSATTI <br>spricht&nbsp;über&nbsp;Beethovens&nbsp
 ;9.&nbsp;Symphonie,&nbsp;liest&nbsp;vor,&nbsp;erzählt... <br> <br>Das ALEKS
 IĆ Streichtrio<br> spielt&nbsp;aus&nbsp;Werken&nbsp;von&nbsp;Beethoven,&nbs
 p;Mozart, <br>Schubert,&nbsp;J.Strauss&nbsp;und&nbsp;W.Wagner <br> <br>Ansc
 hließend&nbsp;Beisammensein&nbsp;mit&nbsp;Weinen&nbsp;vom&nbsp;Weingut&nbsp
 ;Wolff <br> <br> <br>Eintritt:&nbsp;Euro&nbsp;15.-&nbsp;Abendkassa/Studente
 n&nbsp;10.- <br>Anmeldung:&nbsp;0664/43&nbsp;121&nbsp;43,&nbsp;E-Mail:&nbsp
 ;<span id="cloak288e71b6363a899205e82e16b44c03da">Diese E-Mail-Adresse ist 
 vor Spambots geschützt! Zur Anzeige muss JavaScript eingeschaltet sein!</sp
 an><script type='text/javascript'>
				document.getElementById('cloak288e71
 b6363a899205e82e16b44c03da').innerHTML = '';
				var prefix = '&#109;a' + '
 i&#108;' + '&#116;o';
				var path = 'hr' + 'ef' + '=';
				var addy288e71b
 6363a899205e82e16b44c03da = 's_r&#105;tt&#101;n&#97;&#117;&#101;r' + '&#64;
 ';
				addy288e71b6363a899205e82e16b44c03da = addy288e71b6363a899205e82e16b
 44c03da + 'h&#111;tm&#97;&#105;l' + '&#46;' + 'c&#111;m';
				var addy_text
 288e71b6363a899205e82e16b44c03da = 's_r&#105;tt&#101;n&#97;&#117;&#101;r' +
  '&#64;' + 'h&#111;tm&#97;&#105;l' + '&#46;' + 'c&#111;m';document.getEleme
 ntById('cloak288e71b6363a899205e82e16b44c03da').innerHTML += '<a ' + path +
  '\'' + prefix + ':' + addy288e71b6363a899205e82e16b44c03da + '\'>'+addy_te
 xt288e71b6363a899205e82e16b44c03da+'<\/a>';
		</script> <br> <br> Mit&nbsp;
 freundlicher&nbsp;Unterstützung&nbsp;der&nbsp;Bezirksvorstehung&nbsp;Döblin
 g&nbsp;und&nbsp;MA7&nbsp;Wissenschaft <br> <br> <br>Die&nbsp;Veranstaltungs
 reihe&nbsp;steht&nbsp;unter&nbsp;dem&nbsp;Ehrenschutz&nbsp;von&nbsp;Vizekan
 zler&nbsp;und <br>Außenminister&nbsp;Dr.&nbsp;Michael&nbsp;Spindelegger,&nb
 sp;Landeshauptmann&nbsp;Dr.&nbsp;Erwin&nbsp;Pröll, <br>Stadtrat&nbsp;für&nb
 sp;Kultur&nbsp;Dr.&nbsp;Andreas&nbsp;Mailath-Pokorny,&nbsp;WKO-Präsident&nb
 sp;Dr.&nbsp;Christoph&nbsp;Leitl&nbsp;und <br>Bezirksvorsteher&nbsp;von&nbs
 p;Döbling&nbsp;Adolf&nbsp;Tiller <br> <br><a mce_href="https://www.streicht
 rio.at/<a href="http://www.beethoven-vienna.at">http://www.beethoven-vienna
 .at</a>" href="https://www.streichtrio.at/<a href="http://www.beethoven-vie
 nna.at">http://www.beethoven-vienna.at</a>">www.beethoven-vienna.at</a> <br
 ></p>
CONTACT:Aleksić Streichtrio, Diese E-Mail-Adresse ist vor Spambots geschützt! Zur Anzeige muss JavaScript eingeschaltet sein!
				document.getElementById('cloak71565065e304a191ad290551d329c383').innerHTML = '';
				var prefix = '&#109;a' + 'i&#108;' + '&#116;o';
				var path = 'hr' + 'ef' + '=';
				var addy71565065e304a191ad290551d329c383 = '&#111;ff&#105;c&#101;' + '&#64;';
				addy71565065e304a191ad290551d329c383 = addy71565065e304a191ad290551d329c383 + 'str&#101;&#105;chtr&#105;&#111;' + '&#46;' + '&#97;t';
				var addy_text71565065e304a191ad290551d329c383 = '&#111;ff&#105;c&#101;' + '&#64;' + 'str&#101;&#105;chtr&#105;&#111;' + '&#46;' + '&#97;t';document.getElementById('cloak71565065e304a191ad290551d329c383').innerHTML += '<a ' + path + '\'' + prefix + ':' + addy71565065e304a191ad290551d329c383 + '\'>'+addy_text71565065e304a191ad290551d329c383+'';
		
DTSTAMP:20260425T012626
DTSTART;TZID=Europe/Vienna:20110615T193000
DTEND;TZID=Europe/Vienna:20110615T235959
SEQUENCE:0
TRANSP:OPAQUE
END:VEVENT
END:VCALENDAR